BEGIN:VCALENDAR
VERSION:2.0
PRODID:-//Career Support - ECPv6.15.14//NONSGML v1.0//EN
CALSCALE:GREGORIAN
METHOD:PUBLISH
X-WR-CALNAME:Career Support
X-ORIGINAL-URL:https://careersupport.isca.org.sg
X-WR-CALDESC:Events for Career Support
REFRESH-INTERVAL;VALUE=DURATION:PT1H
X-Robots-Tag:noindex
X-PUBLISHED-TTL:PT1H
BEGIN:VTIMEZONE
TZID:Asia/Singapore
BEGIN:STANDARD
TZOFFSETFROM:+0800
TZOFFSETTO:+0800
TZNAME:+08
DTSTART:20250101T000000
END:STANDARD
END:VTIMEZONE
BEGIN:VEVENT
DTSTART;TZID=Asia/Singapore:20260204T000000
DTEND;TZID=Asia/Singapore:20261231T235959
DTSTAMP:20260424T170518
CREATED:20260204T032453Z
LAST-MODIFIED:20260204T033154Z
UID:517-1770163200-1798761599@careersupport.isca.org.sg
SUMMARY:Talent Link
DESCRIPTION:Talent Link – Partnering you in your job placement \n\n\n\nStart your career success with curated PMET job opportunities from in demand sectors\, ranging from entry-level roles to senior positions across diverse industries. Let e2i connect you with roles that matches your skills and career goals.
URL:https://careersupport.isca.org.sg/?tribe_events=talent-link-2
CATEGORIES:e2i events
END:VEVENT
BEGIN:VEVENT
DTSTART;TZID=Asia/Singapore:20260424T100000
DTEND;TZID=Asia/Singapore:20260424T150000
DTSTAMP:20260424T170518
CREATED:20260317T092612Z
LAST-MODIFIED:20260317T092623Z
UID:567-1777024800-1777042800@careersupport.isca.org.sg
SUMMARY:e2i Skills & Career Fair @ The Frontier CC: 24 April 26
DESCRIPTION:About Event \n\n\n\nCome on down to The Frontier CC to meet employers for Face-to-Face interview with companies on 24 April 2026! \n\n\n\n✅ Speak with Training providers for skills upgrading✅ Meet recruiters from companies across multiple industries✅ Get career advisory from e2i coaches✅ Explore AI interview and job kiosks  \n\n\n\nEvent Name: e2i Skills & Career Fair @ The Frontier CC  \n\n\n\n(Level 4) \n\n\n\nEvent Date: 24 April 2026 \n\n\n\nEvent Time: 10am – 3pm (Last Registration at 2.30pm)
URL:https://careersupport.isca.org.sg/?tribe_events=e2i-skills-career-fair-the-frontier-cc-24-april-26
LOCATION:The Frontier CC
CATEGORIES:e2i events
END:VEVENT
BEGIN:VEVENT
DTSTART;TZID=Asia/Singapore:20260425T093000
DTEND;TZID=Asia/Singapore:20260425T143000
DTSTAMP:20260424T170518
CREATED:20260317T092850Z
LAST-MODIFIED:20260317T092903Z
UID:573-1777109400-1777127400@careersupport.isca.org.sg
SUMMARY:e2i Skills & Career Fair @ Pek Kio (25 Apr 2026)
DESCRIPTION:About Event \n\n\n\ne2i Skills and Career Fair @ Pek Kio \n\n\n\nDiscover the first e2i Skills & Career Fair @ Pek Kio which will be held at Pek Kio Community Club \n\n\n\n✅ On-site interviews with 10 hiring employers and more than 1500 job vacancies (PMET/Non-PMET roles) (Full-Time/Part-Time positions)🤖 NTUC AICC to practice & boost your confidence in interview\, polish your resume on the spot and excel in job matching opportunities \n\n\n\n📱Cart-a-job kiosk to provide additional platform for job search opportunities \n\n\n\nWorkshops: \n\n\n\n\n10.00am – 10.30am: Learn how to leverage useful Skillsfuture resources to upskill and stay competitive and gain tips for personal and career development by SkillsFuture Advice Team\n\n\n\n11.00am – 12.00pm – Professional Image Talk by Cath Chan\n\n\n\n\nSkills and Training Advisory Booth and NTUC LearningHub will be there to provide guidance to help identify and bridge skills gaps \n\n\n\nMark your calendar for 25 April 2026 – secure your spots by clicking the “Sign Up” button to register for the event. \n\n\n\nDo download the Job Listing Booklet for more details. 
URL:https://careersupport.isca.org.sg/?tribe_events=e2i-skills-career-fair-pek-kio-25-apr-2026
LOCATION:Pek Kio Community Centre\, Level 1 Concourse\, 21 Gloucester Road\, Singapore\, Singapore\, 219458\, Singapore
CATEGORIES:e2i events
END:VEVENT
END:VCALENDAR